BEGIN:VCALENDAR
VERSION:2.0
PRODID:-//CCBP - ECPv6.3.2//NONSGML v1.0//EN
CALSCALE:GREGORIAN
METHOD:PUBLISH
X-WR-CALNAME:CCBP
X-ORIGINAL-URL:https://ccbp.ua.edu
X-WR-CALDESC:Events for CCBP
REFRESH-INTERVAL;VALUE=DURATION:PT1H
X-Robots-Tag:noindex
X-PUBLISHED-TTL:PT1H
BEGIN:VTIMEZONE
TZID:America/Chicago
BEGIN:DAYLIGHT
TZOFFSETFROM:-0600
TZOFFSETTO:-0500
TZNAME:CDT
DTSTART:20180311T080000
END:DAYLIGHT
BEGIN:STANDARD
TZOFFSETFROM:-0500
TZOFFSETTO:-0600
TZNAME:CST
DTSTART:20181104T070000
END:STANDARD
END:VTIMEZONE
BEGIN:VEVENT
DTSTART;TZID=America/Chicago:20180720T090000
DTEND;TZID=America/Chicago:20180720T223000
DTSTAMP:20260420T205125
CREATED:20180712T135333Z
LAST-MODIFIED:20180712T135333Z
UID:8345-1532077200-1532125800@ccbp.ua.edu
SUMMARY:Language Partners Present: Traveling Abroad Tips
DESCRIPTION:This is another test of the Language Partners Calendar.
URL:https://ccbp.ua.edu/event/language-partners-present-traveling-abroad-tips/
LOCATION:Center for Community-Based Partnership Training Room\, 270 Kilgore Lane\, Tuscaloosa\, United States
CATEGORIES:Language Partners
ORGANIZER;CN="Sarah Saeed":MAILTO:srsaeed@ua.edu
END:VEVENT
BEGIN:VEVENT
DTSTART;TZID=America/Chicago:20180725T140000
DTEND;TZID=America/Chicago:20180725T160000
DTSTAMP:20260420T205125
CREATED:20180712T134033Z
LAST-MODIFIED:20180712T134033Z
UID:8340-1532527200-1532534400@ccbp.ua.edu
SUMMARY:Language Partners Present: Spain & Portugal
DESCRIPTION:This is a sample event for Language Partners.
URL:https://ccbp.ua.edu/event/language-partners-present-spain-portugal/
LOCATION:Center for Community-Based Partnership Training Room\, 270 Kilgore Lane\, Tuscaloosa\, United States
CATEGORIES:Language Partners
ORGANIZER;CN="Sarah Saeed":MAILTO:srsaeed@ua.edu
END:VEVENT
END:VCALENDAR